BEGIN:VCALENDAR
VERSION:2.0
PRODID:-//Chiz Rider Ministries - ECPv6.11.0.1//NONSGML v1.0//EN
CALSCALE:GREGORIAN
METHOD:PUBLISH
X-ORIGINAL-URL:https://chizrider.com
X-WR-CALDESC:Events for Chiz Rider Ministries
REFRESH-INTERVAL;VALUE=DURATION:PT1H
X-Robots-Tag:noindex
X-PUBLISHED-TTL:PT1H
BEGIN:VTIMEZONE
TZID:America/New_York
BEGIN:DAYLIGHT
TZOFFSETFROM:-0500
TZOFFSETTO:-0400
TZNAME:EDT
DTSTART:20250309T070000
END:DAYLIGHT
BEGIN:STANDARD
TZOFFSETFROM:-0400
TZOFFSETTO:-0500
TZNAME:EST
DTSTART:20251102T060000
END:STANDARD
END:VTIMEZONE
BEGIN:VEVENT
DTSTART;VALUE=DATE:20250216
DTEND;VALUE=DATE:20250217
DTSTAMP:20260420T083300
CREATED:20241106T205437Z
LAST-MODIFIED:20241106T205437Z
UID:10000231-1739664000-1739750399@chizrider.com
SUMMARY:North Waverly Chapel
DESCRIPTION:
URL:https://chizrider.com/event/north-waverly-chapel-2
LOCATION:North Waverly Chapel\, 40 State Route 34\, Waverly\, NY\, 14892
END:VEVENT
END:VCALENDAR