BEGIN:VCALENDAR
VERSION:2.0
PRODID:-//Chiz Rider Ministries - ECPv6.11.0.1//NONSGML v1.0//EN
CALSCALE:GREGORIAN
METHOD:PUBLISH
X-WR-CALNAME:Chiz Rider Ministries
X-ORIGINAL-URL:https://chizrider.com
X-WR-CALDESC:Events for Chiz Rider Ministries
REFRESH-INTERVAL;VALUE=DURATION:PT1H
X-Robots-Tag:noindex
X-PUBLISHED-TTL:PT1H
BEGIN:VTIMEZONE
TZID:America/New_York
BEGIN:DAYLIGHT
TZOFFSETFROM:-0500
TZOFFSETTO:-0400
TZNAME:EDT
DTSTART:20250309T070000
END:DAYLIGHT
BEGIN:STANDARD
TZOFFSETFROM:-0400
TZOFFSETTO:-0500
TZNAME:EST
DTSTART:20251102T060000
END:STANDARD
END:VTIMEZONE
BEGIN:VEVENT
DTSTART;VALUE=DATE:20250622
DTEND;VALUE=DATE:20250623
DTSTAMP:20260420T232223
CREATED:20241106T210057Z
LAST-MODIFIED:20241106T210231Z
UID:10000233-1750550400-1750636799@chizrider.com
SUMMARY:Knox Dale Church
DESCRIPTION:
URL:https://chizrider.com/event/knox-dale-church
LOCATION:Knox Dale Church\, 8025 Knox Dale Road\, Brookville\, PA\, 15825
END:VEVENT
END:VCALENDAR