BEGIN:VCALENDAR
VERSION:2.0
PRODID:-//Chiz Rider Ministries - ECPv6.11.0.1//NONSGML v1.0//EN
CALSCALE:GREGORIAN
METHOD:PUBLISH
X-ORIGINAL-URL:https://chizrider.com
X-WR-CALDESC:Events for Chiz Rider Ministries
REFRESH-INTERVAL;VALUE=DURATION:PT1H
X-Robots-Tag:noindex
X-PUBLISHED-TTL:PT1H
BEGIN:VTIMEZONE
TZID:America/New_York
BEGIN:DAYLIGHT
TZOFFSETFROM:-0500
TZOFFSETTO:-0400
TZNAME:EDT
DTSTART:20260308T070000
END:DAYLIGHT
BEGIN:STANDARD
TZOFFSETFROM:-0400
TZOFFSETTO:-0500
TZNAME:EST
DTSTART:20261101T060000
END:STANDARD
END:VTIMEZONE
BEGIN:VEVENT
DTSTART;VALUE=DATE:20260111
DTEND;VALUE=DATE:20260112
DTSTAMP:20260419T010242
CREATED:20251230T204546Z
LAST-MODIFIED:20251230T204546Z
UID:10000274-1768089600-1768175999@chizrider.com
SUMMARY:First United Methodist Church of Hollidaysburg
DESCRIPTION:
URL:https://chizrider.com/event/first-united-methodist-church-of-hollidaysburg
LOCATION:First United Methodist Church of Hollidaysburg\, 801 Allegheny Street\, Hollidaysubrg\, PA\, 16648\, United States
END:VEVENT
END:VCALENDAR