BEGIN:VCALENDAR
VERSION:2.0
PRODID:-//Chiz Rider Ministries - ECPv6.11.0.1//NONSGML v1.0//EN
CALSCALE:GREGORIAN
METHOD:PUBLISH
X-ORIGINAL-URL:https://chizrider.com
X-WR-CALDESC:Events for Chiz Rider Ministries
REFRESH-INTERVAL;VALUE=DURATION:PT1H
X-Robots-Tag:noindex
X-PUBLISHED-TTL:PT1H
BEGIN:VTIMEZONE
TZID:America/New_York
BEGIN:DAYLIGHT
TZOFFSETFROM:-0500
TZOFFSETTO:-0400
TZNAME:EDT
DTSTART:20260308T070000
END:DAYLIGHT
BEGIN:STANDARD
TZOFFSETFROM:-0400
TZOFFSETTO:-0500
TZNAME:EST
DTSTART:20261101T060000
END:STANDARD
END:VTIMEZONE
BEGIN:VEVENT
DTSTART;VALUE=DATE:20261122
DTEND;VALUE=DATE:20261123
DTSTAMP:20260419T191324
CREATED:20251230T205352Z
LAST-MODIFIED:20251230T205352Z
UID:10000288-1795305600-1795391999@chizrider.com
SUMMARY:Marion Hill Alliance Church
DESCRIPTION:
URL:https://chizrider.com/event/marion-hill-alliance-church-4
LOCATION:Marion HIll Alliance Church\, 4607 Rochester Road\, New Brighton\, PA\, PA\, 15066
END:VEVENT
END:VCALENDAR