BEGIN:VCALENDAR
VERSION:2.0
PRODID:-//Chiz Rider Ministries - ECPv6.11.0.1//NONSGML v1.0//EN
CALSCALE:GREGORIAN
METHOD:PUBLISH
X-WR-CALNAME:Chiz Rider Ministries
X-ORIGINAL-URL:https://chizrider.com
X-WR-CALDESC:Events for Chiz Rider Ministries
REFRESH-INTERVAL;VALUE=DURATION:PT1H
X-Robots-Tag:noindex
X-PUBLISHED-TTL:PT1H
BEGIN:VTIMEZONE
TZID:America/New_York
BEGIN:DAYLIGHT
TZOFFSETFROM:-0500
TZOFFSETTO:-0400
TZNAME:EDT
DTSTART:20250309T070000
END:DAYLIGHT
BEGIN:STANDARD
TZOFFSETFROM:-0400
TZOFFSETTO:-0500
TZNAME:EST
DTSTART:20251102T060000
END:STANDARD
END:VTIMEZONE
BEGIN:VEVENT
DTSTART;TZID=America/New_York:20250601T103000
DTEND;TZID=America/New_York:20250601T120000
DTSTAMP:20260420T201847
CREATED:20250522T154828Z
LAST-MODIFIED:20250522T155053Z
UID:10000265-1748773800-1748779200@chizrider.com
SUMMARY:Ellen Chapel
DESCRIPTION:
URL:https://chizrider.com/event/ellen-chapel-3
LOCATION:Ellen Chapel\, 11764 Fergusun Valley Rd\, Lewistown\, PA\, 17044
END:VEVENT
BEGIN:VEVENT
DTSTART;VALUE=DATE:20250608
DTEND;VALUE=DATE:20250609
DTSTAMP:20260420T201847
CREATED:20241204T212831Z
LAST-MODIFIED:20241210T211619Z
UID:10000245-1749340800-1749427199@chizrider.com
SUMMARY:Somerset Grace United Methodist Church
DESCRIPTION:
URL:https://chizrider.com/event/somerset-grace-united-methodist-church-2
LOCATION:Somerset Grace United Methodist Church\, 320 Falgar Road\, Somerset\, PA\, 15501
END:VEVENT
BEGIN:VEVENT
DTSTART;VALUE=DATE:20250615
DTEND;VALUE=DATE:20250616
DTSTAMP:20260420T201847
CREATED:20250424T211239Z
LAST-MODIFIED:20250424T211239Z
UID:10000263-1749945600-1750031999@chizrider.com
SUMMARY:Brockway Alliance Church
DESCRIPTION:
URL:https://chizrider.com/event/brockway-alliance-church-2
LOCATION:Brockway Alliance Church\, 678 Horizon Drive\, Brockway\, PA\, 15824
END:VEVENT
BEGIN:VEVENT
DTSTART;VALUE=DATE:20250622
DTEND;VALUE=DATE:20250623
DTSTAMP:20260420T201847
CREATED:20241106T210057Z
LAST-MODIFIED:20241106T210231Z
UID:10000233-1750550400-1750636799@chizrider.com
SUMMARY:Knox Dale Church
DESCRIPTION:
URL:https://chizrider.com/event/knox-dale-church
LOCATION:Knox Dale Church\, 8025 Knox Dale Road\, Brookville\, PA\, 15825
END:VEVENT
END:VCALENDAR