BEGIN:VCALENDAR
VERSION:2.0
PRODID:-//Chiz Rider Ministries - ECPv6.11.0.1//NONSGML v1.0//EN
CALSCALE:GREGORIAN
METHOD:PUBLISH
X-ORIGINAL-URL:https://chizrider.com
X-WR-CALDESC:Events for Chiz Rider Ministries
REFRESH-INTERVAL;VALUE=DURATION:PT1H
X-Robots-Tag:noindex
X-PUBLISHED-TTL:PT1H
BEGIN:VTIMEZONE
TZID:America/New_York
BEGIN:DAYLIGHT
TZOFFSETFROM:-0500
TZOFFSETTO:-0400
TZNAME:EDT
DTSTART:20260308T070000
END:DAYLIGHT
BEGIN:STANDARD
TZOFFSETFROM:-0400
TZOFFSETTO:-0500
TZNAME:EST
DTSTART:20261101T060000
END:STANDARD
END:VTIMEZONE
BEGIN:VEVENT
DTSTART;VALUE=DATE:20260607
DTEND;VALUE=DATE:20260608
DTSTAMP:20260419T124640
CREATED:20260217T221410Z
LAST-MODIFIED:20260217T221410Z
UID:10000303-1780790400-1780876799@chizrider.com
SUMMARY:Berlin Alliance Church
DESCRIPTION:
URL:https://chizrider.com/event/berlin-alliance-church-3
LOCATION:Berlin Alliance Church\, 725 N Broadway\, Berlin\, PA\, 15530
END:VEVENT
BEGIN:VEVENT
DTSTART;VALUE=DATE:20260614
DTEND;VALUE=DATE:20260615
DTSTAMP:20260419T124640
CREATED:20260407T220220Z
LAST-MODIFIED:20260407T220220Z
UID:10000318-1781395200-1781481599@chizrider.com
SUMMARY:Joyful Followers of Christ
DESCRIPTION:
URL:https://chizrider.com/event/joyful-followers-of-christ-3
LOCATION:Joyful Followers of Christ\, 2524 Garrett Shortcut Road\, Garrett\, PA\, 15552\, United States
END:VEVENT
BEGIN:VEVENT
DTSTART;VALUE=DATE:20260621
DTEND;VALUE=DATE:20260622
DTSTAMP:20260419T124640
CREATED:20260409T164040Z
LAST-MODIFIED:20260409T164040Z
UID:10000323-1782000000-1782086399@chizrider.com
SUMMARY:Green Grove Brethren In Christ
DESCRIPTION:
URL:https://chizrider.com/event/green-grove-brethren-in-christ-2
LOCATION:Green Grove Brethren In Christ\, 301 Brush Mountain Road\, Spring Mills\, PA\, 16875
END:VEVENT
BEGIN:VEVENT
DTSTART;VALUE=DATE:20260628
DTEND;VALUE=DATE:20260629
DTSTAMP:20260419T124640
CREATED:20260320T152845Z
LAST-MODIFIED:20260320T152845Z
UID:10000314-1782604800-1782691199@chizrider.com
SUMMARY:Wingate Faith
DESCRIPTION:
URL:https://chizrider.com/event/wingate-faith
LOCATION:Wingate Faith\, 118 Runville Road\, Bellefonte\, PA\, 16823
END:VEVENT
END:VCALENDAR